Workbook

Sheet Bestand
B1: Corko — Weinkeller-Vorlage | O1: corko.app · Warteliste
A2: Produzent | B2: Wein | C2: Jahrgang | D2: Farbe | E2: Anzahl | F2: Lagerort | G2: Trinken ab | H2: Trinken bis | I2: Status | J2: Art | K2: Geschmack | L2: Rebsorte(n) | M2: Region | N2: Alkoholfrei | O2: Geschenk von | P2: Preis pro Flasche (€) | Q2: Notizen
A3: Weingut Beispiel | B3: Riesling trocken | C3: 2022 | D3: Weißwein | E3: 5 | F3: Regal 1, oben | G3: 2024 | H3: 2032 | I3: =IF(AND(G3="",H3=""),"",IF(AND(G3<>"",YEAR(TODAY())<G3),"Lagern",IF(H3="","Offen",IF(YEAR(TODAY())>H3,"Überfällig",IF(H3-YEAR(TODAY())<=1,"Bald","Trinkreif"))))) -> Trinkreif | J3: Stillwein | K3: Trocken | L3: Riesling | M3: Mosel | N3: Nein | P3: 14.5 | Q3: Beispielzeile – einfach überschreiben
A4: Tenuta Esempio | B4: Barolo | C4: 2022 | D4: Rotwein | E4: 3 | F4: Regal 2, unten | G4: 2027 | H4: 2042 | I4: =IF(AND(G4="",H4=""),"",IF(AND(G4<>"",YEAR(TODAY())<G4),"Lagern",IF(H4="","Offen",IF(YEAR(TODAY())>H4,"Überfällig",IF(H4-YEAR(TODAY())<=1,"Bald","Trinkreif"))))) -> Lagern | J4: Stillwein | K4: Trocken | L4: Nebbiolo | M4: Piemont | N4: Nein | O4: Mama | Q4: Beispielzeile – Geschenk zum Geburtstag
A5: Weingut Vorlage | B5: Zweigelt Rosé | C5: 2024 | D5: Rosé | E5: 1 | F5: Weinkühlschrank | G5: 2024 | H5: 2026 | I5: =IF(AND(G5="",H5=""),"",IF(AND(G5<>"",YEAR(TODAY())<G5),"Lagern",IF(H5="","Offen",IF(YEAR(TODAY())>H5,"Überfällig",IF(H5-YEAR(TODAY())<=1,"Bald","Trinkreif"))))) -> Bald | J5: Stillwein | K5: Trocken | L5: Zweigelt | M5: Weinviertel | N5: Nein | P5: 9.9 | Q5: Beispielzeile
A6: Weingut Beispiel | B6: Riesling alkoholfrei | C6: 2024 | D6: Weißwein | E6: 6 | F6: Kühlschrank | G6: 2024 | H6: 2025 | I6: =IF(AND(G6="",H6=""),"",IF(AND(G6<>"",YEAR(TODAY())<G6),"Lagern",IF(H6="","Offen",IF(YEAR(TODAY())>H6,"Überfällig",IF(H6-YEAR(TODAY())<=1,"Bald","Trinkreif"))))) -> Überfällig | J6: Stillwein | K6: Halbtrocken | L6: Riesling | M6: Rheinhessen | N6: Ja | P6: 7.9 | Q6: Beispielzeile – alkoholfrei, jung trinken
I7: =IF(AND(G7="",H7=""),"",IF(AND(G7<>"",YEAR(TODAY())<G7),"Lagern",IF(H7="","Offen",IF(YEAR(TODAY())>H7,"Überfällig",IF(H7-YEAR(TODAY())<=1,"Bald","Trinkreif")))))
I8: =IF(AND(G8="",H8=""),"",IF(AND(G8<>"",YEAR(TODAY())<G8),"Lagern",IF(H8="","Offen",IF(YEAR(TODAY())>H8,"Überfällig",IF(H8-YEAR(TODAY())<=1,"Bald","Trinkreif")))))
I9: =IF(AND(G9="",H9=""),"",IF(AND(G9<>"",YEAR(TODAY())<G9),"Lagern",IF(H9="","Offen",IF(YEAR(TODAY())>H9,"Überfällig",IF(H9-YEAR(TODAY())<=1,"Bald","Trinkreif")))))
I10: =IF(AND(G10="",H10=""),"",IF(AND(G10<>"",YEAR(TODAY())<G10),"Lagern",IF(H10="","Offen",IF(YEAR(TODAY())>H10,"Überfällig",IF(H10-YEAR(TODAY())<=1,"Bald","Trinkreif")))))
I11: =IF(AND(G11="",H11=""),"",IF(AND(G11<>"",YEAR(TODAY())<G11),"Lagern",IF(H11="","Offen",IF(YEAR(TODAY())>H11,"Überfällig",IF(H11-YEAR(TODAY())<=1,"Bald","Trinkreif")))))
I12: =IF(AND(G12="",H12=""),"",IF(AND(G12<>"",YEAR(TODAY())<G12),"Lagern",IF(H12="","Offen",IF(YEAR(TODAY())>H12,"Überfällig",IF(H12-YEAR(TODAY())<=1,"Bald","Trinkreif")))))
I13: =IF(AND(G13="",H13=""),"",IF(AND(G13<>"",YEAR(TODAY())<G13),"Lagern",IF(H13="","Offen",IF(YEAR(TODAY())>H13,"Überfällig",IF(H13-YEAR(TODAY())<=1,"Bald","Trinkreif")))))
I14: =IF(AND(G14="",H14=""),"",IF(AND(G14<>"",YEAR(TODAY())<G14),"Lagern",IF(H14="","Offen",IF(YEAR(TODAY())>H14,"Überfällig",IF(H14-YEAR(TODAY())<=1,"Bald","Trinkreif")))))
I15: =IF(AND(G15="",H15=""),"",IF(AND(G15<>"",YEAR(TODAY())<G15),"Lagern",IF(H15="","Offen",IF(YEAR(TODAY())>H15,"Überfällig",IF(H15-YEAR(TODAY())<=1,"Bald","Trinkreif")))))
I16: =IF(AND(G16="",H16=""),"",IF(AND(G16<>"",YEAR(TODAY())<G16),"Lagern",IF(H16="","Offen",IF(YEAR(TODAY())>H16,"Überfällig",IF(H16-YEAR(TODAY())<=1,"Bald","Trinkreif")))))
I17: =IF(AND(G17="",H17=""),"",IF(AND(G17<>"",YEAR(TODAY())<G17),"Lagern",IF(H17="","Offen",IF(YEAR(TODAY())>H17,"Überfällig",IF(H17-YEAR(TODAY())<=1,"Bald","Trinkreif")))))
I18: =IF(AND(G18="",H18=""),"",IF(AND(G18<>"",YEAR(TODAY())<G18),"Lagern",IF(H18="","Offen",IF(YEAR(TODAY())>H18,"Überfällig",IF(H18-YEAR(TODAY())<=1,"Bald","Trinkreif")))))
... I1002: =IF(AND(G1002="",H1002=""),"",IF(AND(G1002<>"",YEAR(TODAY())<G1002),"Lagern",IF(H1002="","Offen",IF(YEAR(TODAY())>H1002,"Überfällig",IF(H1002-YEAR(TODAY())<=1,"Bald","Trinkreif")))))

Sheet Übersicht
B1: Corko — Alles im Blick, ohne Umwege. | F1: corko.app · Warteliste
B3: Flaschen | C3: Trinkreif | D3: Bald zu spät | E3: Überfällig
B4: =SUM('Bestand'!$E$3:$E$1002) -> 15 | C4: =SUMIF('Bestand'!$I$3:$I$1002,"Trinkreif",'Bestand'!$E$3:$E$1002)+SUMIF('Bestand'!$I$3:$I$1002,"Offen",'Bestand'!$E$3:$E$1002) -> 5 | D4: =SUMIF('Bestand'!$I$3:$I$1002,"Bald",'Bestand'!$E$3:$E$1002) -> 1 | E4: =SUMIF('Bestand'!$I$3:$I$1002,"Überfällig",'Bestand'!$E$3:$E$1002) -> 6
B6: Nach Farbe | G6: Weitere Zahlen
B7: Rotwein | C7: =SUMIF('Bestand'!$D$3:$D$1002,"Rotwein",'Bestand'!$E$3:$E$1002) -> 3 | G7: Alkoholfreie Flaschen | H7: =SUMIF('Bestand'!$N$3:$N$1002,"Ja",'Bestand'!$E$3:$E$1002) -> 6
B8: Weißwein | C8: =SUMIF('Bestand'!$D$3:$D$1002,"Weißwein",'Bestand'!$E$3:$E$1002) -> 11 | G8: Geschenkte Flaschen | H8: =SUMIF('Bestand'!$O$3:$O$1002,"<>",'Bestand'!$E$3:$E$1002) -> 3
B9: Rosé | C9: =SUMIF('Bestand'!$D$3:$D$1002,"Rosé",'Bestand'!$E$3:$E$1002) -> 1 | G9: Verschiedene Weine | H9: =COUNTIF('Bestand'!$E$3:$E$1002,">0") -> 4
B10: Orange Wine | C10: =SUMIF('Bestand'!$D$3:$D$1002,"Orange Wine",'Bestand'!$E$3:$E$1002) -> 0
B11: Sonstiges | C11: =SUMIF('Bestand'!$D$3:$D$1002,"Sonstiges",'Bestand'!$E$3:$E$1002) -> 0
